BEGIN:VCALENDAR
VERSION:2.0
PRODID:-//West Cohasset Chapel - ECPv6.15.18//NONSGML v1.0//EN
CALSCALE:GREGORIAN
METHOD:PUBLISH
X-ORIGINAL-URL:https://westcohassetchapel.com
X-WR-CALDESC:Events for West Cohasset Chapel
REFRESH-INTERVAL;VALUE=DURATION:PT1H
X-Robots-Tag:noindex
X-PUBLISHED-TTL:PT1H
BEGIN:VTIMEZONE
TZID:America/Chicago
BEGIN:DAYLIGHT
TZOFFSETFROM:-0600
TZOFFSETTO:-0500
TZNAME:CDT
DTSTART:20240310T080000
END:DAYLIGHT
BEGIN:STANDARD
TZOFFSETFROM:-0500
TZOFFSETTO:-0600
TZNAME:CST
DTSTART:20241103T070000
END:STANDARD
BEGIN:DAYLIGHT
TZOFFSETFROM:-0600
TZOFFSETTO:-0500
TZNAME:CDT
DTSTART:20250309T080000
END:DAYLIGHT
BEGIN:STANDARD
TZOFFSETFROM:-0500
TZOFFSETTO:-0600
TZNAME:CST
DTSTART:20251102T070000
END:STANDARD
BEGIN:DAYLIGHT
TZOFFSETFROM:-0600
TZOFFSETTO:-0500
TZNAME:CDT
DTSTART:20260308T080000
END:DAYLIGHT
BEGIN:STANDARD
TZOFFSETFROM:-0500
TZOFFSETTO:-0600
TZNAME:CST
DTSTART:20261101T070000
END:STANDARD
END:VTIMEZONE
BEGIN:VEVENT
DTSTART;TZID=America/Chicago:20251026T103000
DTEND;TZID=America/Chicago:20251026T103000
DTSTAMP:20260423T012027
CREATED:20251016T140023Z
LAST-MODIFIED:20251016T161019Z
UID:7038-1761474600-1761474600@westcohassetchapel.com
SUMMARY:New Member Sunday
DESCRIPTION:Zach and Rachelle have been received into membership. Please join us on Sunday\, October 29\, to hear their testimonies during the morning worship service.
URL:https://westcohassetchapel.com/event/new-member-sunday/
CATEGORIES:Everyone
ATTACH;FMTTYPE=image/png:https://westcohassetchapel.com/wp-content/uploads/2024/06/New-Member-Sunday.png
END:VEVENT
END:VCALENDAR