BEGIN:VCALENDAR
VERSION:2.0
PRODID:-//West Cohasset Chapel - ECPv6.15.18//NONSGML v1.0//EN
CALSCALE:GREGORIAN
METHOD:PUBLISH
X-ORIGINAL-URL:https://westcohassetchapel.com
X-WR-CALDESC:Events for West Cohasset Chapel
REFRESH-INTERVAL;VALUE=DURATION:PT1H
X-Robots-Tag:noindex
X-PUBLISHED-TTL:PT1H
BEGIN:VTIMEZONE
TZID:America/Chicago
BEGIN:DAYLIGHT
TZOFFSETFROM:-0600
TZOFFSETTO:-0500
TZNAME:CDT
DTSTART:20230312T080000
END:DAYLIGHT
BEGIN:STANDARD
TZOFFSETFROM:-0500
TZOFFSETTO:-0600
TZNAME:CST
DTSTART:20231105T070000
END:STANDARD
BEGIN:DAYLIGHT
TZOFFSETFROM:-0600
TZOFFSETTO:-0500
TZNAME:CDT
DTSTART:20240310T080000
END:DAYLIGHT
BEGIN:STANDARD
TZOFFSETFROM:-0500
TZOFFSETTO:-0600
TZNAME:CST
DTSTART:20241103T070000
END:STANDARD
BEGIN:DAYLIGHT
TZOFFSETFROM:-0600
TZOFFSETTO:-0500
TZNAME:CDT
DTSTART:20250309T080000
END:DAYLIGHT
BEGIN:STANDARD
TZOFFSETFROM:-0500
TZOFFSETTO:-0600
TZNAME:CST
DTSTART:20251102T070000
END:STANDARD
END:VTIMEZONE
BEGIN:VEVENT
DTSTART;TZID=America/Chicago:20240827T173000
DTEND;TZID=America/Chicago:20240827T190000
DTSTAMP:20260422T121631
CREATED:20240520T140019Z
LAST-MODIFIED:20240815T184141Z
UID:3251-1724779800-1724785200@westcohassetchapel.com
SUMMARY:Summer Fellowship
DESCRIPTION:Everyone is invited for an evening of fun and fellowship! \nPlease bring a picnic supper and plan to meet near the playground area at Portage Park (weather permitting).
URL:https://westcohassetchapel.com/event/summer-fellowship/
CATEGORIES:Everyone
ATTACH;FMTTYPE=image/png:https://westcohassetchapel.com/wp-content/uploads/2023/05/Summer-Fellowship-2023-WIRE-WEBPAGE.png
END:VEVENT
END:VCALENDAR