BEGIN:VCALENDAR
VERSION:2.0
PRODID:-//West Cohasset Chapel - ECPv6.15.18//NONSGML v1.0//EN
CALSCALE:GREGORIAN
METHOD:PUBLISH
X-WR-CALNAME:West Cohasset Chapel
X-ORIGINAL-URL:https://westcohassetchapel.com
X-WR-CALDESC:Events for West Cohasset Chapel
REFRESH-INTERVAL;VALUE=DURATION:PT1H
X-Robots-Tag:noindex
X-PUBLISHED-TTL:PT1H
BEGIN:VTIMEZONE
TZID:America/Chicago
BEGIN:DAYLIGHT
TZOFFSETFROM:-0600
TZOFFSETTO:-0500
TZNAME:CDT
DTSTART:20240310T080000
END:DAYLIGHT
BEGIN:STANDARD
TZOFFSETFROM:-0500
TZOFFSETTO:-0600
TZNAME:CST
DTSTART:20241103T070000
END:STANDARD
BEGIN:DAYLIGHT
TZOFFSETFROM:-0600
TZOFFSETTO:-0500
TZNAME:CDT
DTSTART:20250309T080000
END:DAYLIGHT
BEGIN:STANDARD
TZOFFSETFROM:-0500
TZOFFSETTO:-0600
TZNAME:CST
DTSTART:20251102T070000
END:STANDARD
BEGIN:DAYLIGHT
TZOFFSETFROM:-0600
TZOFFSETTO:-0500
TZNAME:CDT
DTSTART:20260308T080000
END:DAYLIGHT
BEGIN:STANDARD
TZOFFSETFROM:-0500
TZOFFSETTO:-0600
TZNAME:CST
DTSTART:20261101T070000
END:STANDARD
END:VTIMEZONE
BEGIN:VEVENT
DTSTART;TZID=America/Chicago:20250731T134500
DTEND;TZID=America/Chicago:20250731T134500
DTSTAMP:20260421T171621
CREATED:20250710T195915Z
LAST-MODIFIED:20250710T195915Z
UID:8345-1753969500-1753969500@westcohassetchapel.com
SUMMARY:AWANA Verse-Bucks Donation Drop Off
DESCRIPTION:All are welcome to come! \nWe will meet in the parking lot behind New Beginnings Pregnancy Center in Grand Rapids at 1:45 PM. \nOnce we have dropped off the donations\, we will proceed as a group to The Great Tails Animal Rescue drop-off point in the mall\, and then on to Foster Love in Grand Rapids to drop off the remaining donations. \nThen anyone who wants to purchase and enjoy a treat at Dairy Queen can meet up to end our time together.
URL:https://westcohassetchapel.com/event/awana-verse-bucks-donation-drop-off/
CATEGORIES:Everyone
END:VEVENT
END:VCALENDAR